BEGIN:VCALENDAR
VERSION:2.0
BEGIN:VEVENT
SUMMARY:Spring Cleanup at Living Water Recovery House
DTSTART:20260418T140000Z
DTEND:20260418T170000Z
DESCRIPTION:<strong>GO Opportunity: Sharing God's love in practical ways</strong>

Join us at the <span class="il">Living</span> Water recovery home in Glen Cove where we will work together to take care of all their <span class="il">gardening</span> needs. Cleaning up, weeding, planting, etc..  We meet at the house at 10:00am.

Living Water for Women established a structured transitional home for women who are struggling with addictions to overcome their weaknesses and nurture their strengths so that they may become vital members of the community.

Please email Marcus Heiniger with any questions | <a href="mailto:Mheiniger1@verizon.net" target="_blank" rel="noopener">Mheiniger1@verizon.net</a>.

To learn more about Living Water visit their website at <a href="https://livingwaterforwomen.org/" target="_blank" rel="noopener">https://livingwaterforwomen.org/</a>
LOCATION:85 Glen Cove Ave, Glen Cove, NY 11542
END:VEVENT
END:VCALENDAR