BEGIN:VCALENDAR
VERSION:2.0
BEGIN:VEVENT
SUMMARY:Christmas Eve Services
DTSTART:20231224T133000Z
DTEND:20231224T173000Z
DESCRIPTION:Join us this Christmas Eve to celebrate the birth of our Savior!!  In addition to our 9:30 and 11:30am services, we will have a contemplative service at 8:30am.
LOCATION:Event Location
END:VEVENT
END:VCALENDAR