BEGIN:VCALENDAR
VERSION:2.0
BEGIN:VEVENT
SUMMARY:Good Friday Communion Service
DTSTART:20260403T230000Z
DTEND:20260404T000000Z
DESCRIPTION:<span data-huuid="10332821706275586871">Good Friday is a day of deep meaning and love, a remembrance of Christ's suffering, sacrifice and ultimate triumph over sin and death.  Join us for one special Good Friday Communion Service to reflect on what Jesus endured for us</span><span data-huuid="10332821706275588804">, and to experience the quiet joy found in the promise it holds. </span><span data-huuid="10332821706275588574"><span class="pjBG2e" data-cid="205cc476-dea3-4f4d-aaa0-27072de65d7a"><span class="UV3uM"> </span></span></span>

Connect Kidz on the second floor is available for ages 4-10.  The Family Room on the first floor is available for ages 0-3.
LOCATION:Event Location
END:VEVENT
END:VCALENDAR