BEGIN:VCALENDAR
VERSION:2.0
BEGIN:VEVENT
SUMMARY:Practicing the Way Course: A Hands-On Guide to Following Jesus Together
DTSTART:20260505T230000Z
DTEND:20260617T010000Z
DESCRIPTION:Practicing the Way Course: A Hands-On Guide to Following Jesus Together is a seven-week journey into what it means to be a disciple of Jesus: how to be with Him, become like Him, and do what He did.

It's an introduction to spiritual formation designed to help our community move from merely believing in Jesus to living as his apprentice (disciple). Created by author and teacher John Mark Comer, the course provides a guide for establishing a lifelong rhythm of following Jesus in a modern, often hurried culture.

Every week we will meet for a video teaching, guided discussions, and reference to further study and personal reflections at home.

Meets Tuesdays, May 5 to June 16 from 7:00 - 9:00 PM in the 2nd floor Ministry Room.

Course details and the companion guide at: <a href="https://www.practicingtheway.org/course" target="_blank" rel="noopener noreferrer noreferrer" data-saferedirecturl="https://www.google.com/url?q=https://www.practicingtheway.org/course&amp;source=gmail&amp;ust=1775741307360000&amp;usg=AOvVaw0wVmTO75DFl9ix-daFE9be">https://www.practicingtheway.<wbr />org/course</a>

Led by Sami &amp; Amal Shaker | shakers4@gmail.com
LOCATION:2nd Floor Ministry Room
END:VEVENT
END:VCALENDAR